BEGIN:VCALENDAR
VERSION:2.0
PRODID:-//ChamberMaster//Event Calendar 2.0//EN
METHOD:PUBLISH
X-PUBLISHED-TTL:P3D
REFRESH-INTERVAL:P3D
CALSCALE:GREGORIAN
BEGIN:VEVENT
DTSTART:20260606T093000Z
DTEND:20260607T010000Z
X-MICROSOFT-CDO-ALLDAYEVENT:FALSE
SUMMARY:2026 Fishing Tournament
DESCRIPTION:Grab your fishing pole and get ready to have some fun!  This great BANCF event is for members\, their guests\, and families. The tournament is designed for all ages. Kids have their own division of awards\, prizes\, and gifts\, so bring the family and make this a mini vacation filled with great memories.  The tournament will take place at the Paddletail Waterfront Lodge in Crystal River\, FL.  And\, best of all\, BANCF members receive a special rate on hotel rooms.  Don't have a boat?  Don't worry!  There are many rental boats and guides available for hire in Crystal River.  This is the perfect way to relax and socialize with your fellow members!\n\n \n\nBANCF Activities Include:\n\n\n	Friday night\, June 5th   Captain's Reception   with fantastic raffles!   7:30pm   \n	Saturday\, June 6th\n	\n		Fishing Tournament   starts at Safe Light   saltwater and freshwater categories\n		Weigh-In Event   4pm sharp\n		Dinner and Award Ceremony with awesome prizes\, raffles\, and a special gift for all children!   6:30pm\n	\n	\n\n\n \n\nSaltwater & Freshwater Tournament is all day on Saturday\, June 6th with prizes awarded at the dinner on Saturday night. Rules and categories to be available soon.\n\n \n\nDUE TO THE RESTRICTION OF THE HOTEL SPACE\, THE DINNER AND AWARD CEREMONY IS LIMITED TO THE FIRST 200 PAID RESERVATIONS ONLY.\n\n\n\n\n\nPLEASE NOTE: By registering for the BANCF Fishing Tournament\, you understand that photographic\, voice or video recordings may be made of you and you willingly agree that BANCF may use your photograph\, voice or video recordings in print\, projection\, website or video format for future marketing efforts.
X-ALT-DESC;FMTTYPE=text/html:<p><strong><span style="font-family:century gothic\,sans-serif\;"><span style="font-size:13.0pt\;">Grab your fishing pole and get ready to have some fun!&nbsp\; This great BANCF event is for members\, their <u>guests\,</u> and <u>families</u>. The tournament is designed for all ages. Kids have their own division of awards\, prizes\, and gifts\, so bring the family and make this a mini vacation filled with great memories. &nbsp\;The tournament will take place at the Paddletail Waterfront Lodge in Crystal River\, FL. &nbsp\;And\, best of all\, BANCF members receive a special rate on hotel rooms. &nbsp\;Don&rsquo\;t have a boat?&nbsp\; Don&rsquo\;t worry! &nbsp\;There are many rental boats and guides available for hire in Crystal River.&nbsp\; This is the perfect way to relax and socialize with your fellow members!</span></span></strong><br />\n&nbsp\;<br />\n<strong><u><span style="font-family:century gothic\,sans-serif\;"><span style="font-size:16.0pt\;">BANCF Activities Include:</span></span></u></strong></p>\n\n<ul>\n	<li value="5"><span style="font-family:century gothic\,sans-serif\;"><span style="font-size:14.0pt\;">Friday night\, June 5th &ndash\; <strong><em>Captain&rsquo\;s Reception </em></strong>&ndash\; with fantastic raffles! &ndash\; 7:30pm&nbsp\;&nbsp\; </span></span></li>\n	<li value="5"><span style="font-family:century gothic\,sans-serif\;"><span style="font-size:14.0pt\;">Saturday\, June 6th</span></span>\n	<ul style="list-style-type:circle\;">\n		<li><strong><em><span style="font-family:century gothic\,sans-serif\;"><span style="font-size:14.0pt\;">Fishing Tournament </span></span></em></strong><span style="font-family:century gothic\,sans-serif\;"><span style="font-size:14.0pt\;">&ndash\; starts at Safe Light &ndash\; saltwater and freshwater categories</span></span></li>\n		<li><strong><em><span style="font-family:century gothic\,sans-serif\;"><span style="font-size:14.0pt\;">Weigh-In Event</span></span></em></strong><span style="font-family:century gothic\,sans-serif\;"><span style="font-size:14.0pt\;"> &ndash\; 4pm sharp</span></span></li>\n		<li><strong><em><span style="font-family:century gothic\,sans-serif\;"><span style="font-size:14.0pt\;">Dinner and Award Ceremony</span></span></em></strong><span style="font-family:century gothic\,sans-serif\;"><span style="font-size:14.0pt\;"> with awesome prizes\, raffles\, and a special gift for <u>all</u> children! &ndash\; 6:30pm</span></span></li>\n	</ul>\n	</li>\n</ul>\n\n<p>&nbsp\;<br />\n<strong><span style="font-family:century gothic\,sans-serif\;"><span style="font-size:14.0pt\;">Saltwater &amp\; Freshwater Tournament is all day on </span></span></strong><strong><span style="font-family:century gothic\,sans-serif\;"><span style="font-size:14.0pt\;">Saturday\, June 6th </span></span></strong><strong><span style="font-family:century gothic\,sans-serif\;"><span style="font-size:14.0pt\;">with prizes awarded at the dinner on Saturday night. Rules and categories to be available soon.</span></span></strong><br />\n&nbsp\;<br />\n<strong><span style="color:#FA3A06\;"><span style="font-family:century gothic\,sans-serif\;"><span style="font-size:16.0pt\;">DUE TO THE RESTRICTION OF THE HOTEL SPACE\, THE DINNER AND AWARD CEREMONY IS LIMITED TO THE <u>FIRST 200 PAID RESERVATIONS ONLY</u>.</span></span></span></strong><br />\n<br />\n<br />\n<span style="font-size:12px\;"><span style="font-family:arial\;"><strong><em>PLEASE NOTE:</em></strong><em>&nbsp\;By registering for the BANCF Fishing Tournament\, you understand that photographic\, voice or video recordings may be made of you and you willingly agree that BANCF may use your photograph\, voice or video recordings in print\, projection\, website or video format for future marketing efforts.</em></span></span></p>\n
LOCATION:Paddletail Waterfront Lodge
UID:e.9596.9194
SEQUENCE:3
DTSTAMP:20260420T094458Z
URL:https://members.bancfapprenticeship.com/events/details/2026-fishing-tournament-9194
END:VEVENT

END:VCALENDAR
